BEGIN:VCALENDAR
VERSION:2.0
PRODID:-//Barrington Stage Company - ECPv6.15.19//NONSGML v1.0//EN
CALSCALE:GREGORIAN
METHOD:PUBLISH
X-ORIGINAL-URL:https://barringtonstageco.org
X-WR-CALDESC:Events for Barrington Stage Company
REFRESH-INTERVAL;VALUE=DURATION:PT1H
X-Robots-Tag:noindex
X-PUBLISHED-TTL:PT1H
BEGIN:VTIMEZONE
TZID:America/New_York
BEGIN:DAYLIGHT
TZOFFSETFROM:-0500
TZOFFSETTO:-0400
TZNAME:EDT
DTSTART:20250309T070000
END:DAYLIGHT
BEGIN:STANDARD
TZOFFSETFROM:-0400
TZOFFSETTO:-0500
TZNAME:EST
DTSTART:20251102T060000
END:STANDARD
BEGIN:DAYLIGHT
TZOFFSETFROM:-0500
TZOFFSETTO:-0400
TZNAME:EDT
DTSTART:20260308T070000
END:DAYLIGHT
BEGIN:STANDARD
TZOFFSETFROM:-0400
TZOFFSETTO:-0500
TZNAME:EST
DTSTART:20261101T060000
END:STANDARD
BEGIN:DAYLIGHT
TZOFFSETFROM:-0500
TZOFFSETTO:-0400
TZNAME:EDT
DTSTART:20270314T070000
END:DAYLIGHT
BEGIN:STANDARD
TZOFFSETFROM:-0400
TZOFFSETTO:-0500
TZNAME:EST
DTSTART:20271107T060000
END:STANDARD
END:VTIMEZONE
BEGIN:VEVENT
DTSTART;VALUE=DATE:20260726
DTEND;VALUE=DATE:20260727
DTSTAMP:20260422T053617
CREATED:20260312T184050Z
LAST-MODIFIED:20260312T185620Z
UID:10001081-1785024000-1785110399@barringtonstageco.org
SUMMARY:2026 Summer Gala
DESCRIPTION:You’re invited to BSC’s biggest night of the year. \nJuly 26\, 2026
URL:https://barringtonstageco.org/event/2026-summer-gala/
LOCATION:The Stationery Factory\, 63 Flansburg Ave\, Dalton\, MA\, 01226
CATEGORIES:Special Event,Gala
ATTACH;FMTTYPE=image/png:https://barringtonstageco.org/wp-content/uploads/2026/01/2026_Gala_STD_eBlast.png
END:VEVENT
BEGIN:VEVENT
DTSTART;TZID=America/New_York:20260726T140000
DTEND;TZID=America/New_York:20260726T170000
DTSTAMP:20260422T053617
CREATED:20260311T184520Z
LAST-MODIFIED:20260420T194825Z
UID:10000990-1785074400-1785085200@barringtonstageco.org
SUMMARY:A Chorus Line
DESCRIPTION:Sponsored by the Feigenbaum Foundation\, and David & Carrie Shulman\nA Chorus Line\nJuly 15-August 8 \n17 dancers audition for a coveted spot in the next hot Broadway show. To make it\, they must prove they have more than just talent — this will take grit. In a major musical production\, Alan Paul directs the Pulitzer and Tony Award-winning musical that eclipsed all others when it shot to fame 50 years ago. \nJoin cast\, creatives\, and BSC-loyalists for pre-show drinks\, intermission snacks\, or post-show festivities. These are the most celebratory and in-demand nights of the year. Seating is extremely limited! \nOpening Celebration: Sunday\, July 19\, 2 pm\nDeeper Look: Sunday\, August 2\, 11 am\nAftershow: Wednesday\, July 29 \nConceived and originally directed and choreographed by Michael Bennett\nBook by James Kirkwood & Nicholas Dante\nMusic by Marvin Hamlisch\nLyrics by Edward Kleban\nCo-choreographed by Bob Avian\nDirected by Alan Paul\nCo-Production with Geva Theatre \nAdditional sponsorship by Jeff Davis & Michael Miller\, and Berkshire Money Management.
URL:https://barringtonstageco.org/event/a-chorus-line/2026-07-26/
LOCATION:Boyd-Quinson Theater\, 30 Union Street\, Pittsfield\, MA\, 01201\, United States
CATEGORIES:Boyd-Quinson Theater,Musical
ATTACH;FMTTYPE=image/jpeg:https://barringtonstageco.org/wp-content/uploads/2026/03/2026_ShowArt_ACL.jpg
END:VEVENT
BEGIN:VEVENT
DTSTART;TZID=America/New_York:20260726T140000
DTEND;TZID=America/New_York:20260726T170000
DTSTAMP:20260422T053617
CREATED:20260420T194858Z
LAST-MODIFIED:20260420T200904Z
UID:10002206-1785074400-1785085200@barringtonstageco.org
SUMMARY:A Chorus Line
DESCRIPTION:Sponsored by the Feigenbaum Foundation\, and David & Carrie Shulman\nA Chorus Line\nJuly 15-August 8 \n17 dancers audition for a coveted spot in the next hot Broadway show. To make it\, they must prove they have more than just talent — this will take grit. In a major musical production\, Alan Paul directs the Pulitzer and Tony Award-winning musical that eclipsed all others when it shot to fame 50 years ago. \nJoin cast\, creatives\, and BSC-loyalists for pre-show drinks\, intermission snacks\, or post-show festivities. These are the most celebratory and in-demand nights of the year. Seating is extremely limited! \nOpening Celebration: Sunday\, July 19\, 2 pm\nDeeper Look: Sunday\, August 2\, 11 am\nAftershow: Wednesday\, July 29 \nConceived and originally directed and choreographed by Michael Bennett\nBook by James Kirkwood & Nicholas Dante\nMusic by Marvin Hamlisch\nLyrics by Edward Kleban\nCo-choreographed by Bob Avian\nDirected by Alan Paul\nCo-Production with Geva Theatre \nAdditional sponsorship by Jeff Davis & Michael Miller\, and Berkshire Money Management.
URL:https://barringtonstageco.org/event/a-chorus-line-2/2026-07-26/
LOCATION:Boyd-Quinson Theater\, 30 Union Street\, Pittsfield\, MA\, 01201\, United States
CATEGORIES:Boyd-Quinson Theater,Musical
ATTACH;FMTTYPE=image/jpeg:https://barringtonstageco.org/wp-content/uploads/2026/03/2026_ShowArt_ACL.jpg
END:VEVENT
BEGIN:VEVENT
DTSTART;TZID=America/New_York:20260728T140000
DTEND;TZID=America/New_York:20260728T160000
DTSTAMP:20260422T053617
CREATED:20260420T194858Z
LAST-MODIFIED:20260420T200904Z
UID:10002207-1785247200-1785254400@barringtonstageco.org
SUMMARY:A Chorus Line
DESCRIPTION:Sponsored by the Feigenbaum Foundation\, and David & Carrie Shulman\nA Chorus Line\nJuly 15-August 8 \n17 dancers audition for a coveted spot in the next hot Broadway show. To make it\, they must prove they have more than just talent — this will take grit. In a major musical production\, Alan Paul directs the Pulitzer and Tony Award-winning musical that eclipsed all others when it shot to fame 50 years ago. \nJoin cast\, creatives\, and BSC-loyalists for pre-show drinks\, intermission snacks\, or post-show festivities. These are the most celebratory and in-demand nights of the year. Seating is extremely limited! \nOpening Celebration: Sunday\, July 19\, 2 pm\nDeeper Look: Sunday\, August 2\, 11 am\nAftershow: Wednesday\, July 29 \nConceived and originally directed and choreographed by Michael Bennett\nBook by James Kirkwood & Nicholas Dante\nMusic by Marvin Hamlisch\nLyrics by Edward Kleban\nCo-choreographed by Bob Avian\nDirected by Alan Paul\nCo-Production with Geva Theatre \nAdditional sponsorship by Jeff Davis & Michael Miller\, and Berkshire Money Management.
URL:https://barringtonstageco.org/event/a-chorus-line-2/2026-07-28/
LOCATION:Boyd-Quinson Theater\, 30 Union Street\, Pittsfield\, MA\, 01201\, United States
CATEGORIES:Boyd-Quinson Theater,Musical
ATTACH;FMTTYPE=image/jpeg:https://barringtonstageco.org/wp-content/uploads/2026/03/2026_ShowArt_ACL.jpg
END:VEVENT
BEGIN:VEVENT
DTSTART;TZID=America/New_York:20260728T193000
DTEND;TZID=America/New_York:20260728T220000
DTSTAMP:20260422T053617
CREATED:20260311T184520Z
LAST-MODIFIED:20260420T194825Z
UID:10000991-1785267000-1785276000@barringtonstageco.org
SUMMARY:A Chorus Line
DESCRIPTION:Sponsored by the Feigenbaum Foundation\, and David & Carrie Shulman\nA Chorus Line\nJuly 15-August 8 \n17 dancers audition for a coveted spot in the next hot Broadway show. To make it\, they must prove they have more than just talent — this will take grit. In a major musical production\, Alan Paul directs the Pulitzer and Tony Award-winning musical that eclipsed all others when it shot to fame 50 years ago. \nJoin cast\, creatives\, and BSC-loyalists for pre-show drinks\, intermission snacks\, or post-show festivities. These are the most celebratory and in-demand nights of the year. Seating is extremely limited! \nOpening Celebration: Sunday\, July 19\, 2 pm\nDeeper Look: Sunday\, August 2\, 11 am\nAftershow: Wednesday\, July 29 \nConceived and originally directed and choreographed by Michael Bennett\nBook by James Kirkwood & Nicholas Dante\nMusic by Marvin Hamlisch\nLyrics by Edward Kleban\nCo-choreographed by Bob Avian\nDirected by Alan Paul\nCo-Production with Geva Theatre \nAdditional sponsorship by Jeff Davis & Michael Miller\, and Berkshire Money Management.
URL:https://barringtonstageco.org/event/a-chorus-line/2026-07-28/
LOCATION:Boyd-Quinson Theater\, 30 Union Street\, Pittsfield\, MA\, 01201\, United States
CATEGORIES:Boyd-Quinson Theater,Musical
ATTACH;FMTTYPE=image/jpeg:https://barringtonstageco.org/wp-content/uploads/2026/03/2026_ShowArt_ACL.jpg
END:VEVENT
BEGIN:VEVENT
DTSTART;TZID=America/New_York:20260729T140000
DTEND;TZID=America/New_York:20260729T170000
DTSTAMP:20260422T053617
CREATED:20260311T184520Z
LAST-MODIFIED:20260420T194825Z
UID:10000992-1785333600-1785344400@barringtonstageco.org
SUMMARY:A Chorus Line
DESCRIPTION:Sponsored by the Feigenbaum Foundation\, and David & Carrie Shulman\nA Chorus Line\nJuly 15-August 8 \n17 dancers audition for a coveted spot in the next hot Broadway show. To make it\, they must prove they have more than just talent — this will take grit. In a major musical production\, Alan Paul directs the Pulitzer and Tony Award-winning musical that eclipsed all others when it shot to fame 50 years ago. \nJoin cast\, creatives\, and BSC-loyalists for pre-show drinks\, intermission snacks\, or post-show festivities. These are the most celebratory and in-demand nights of the year. Seating is extremely limited! \nOpening Celebration: Sunday\, July 19\, 2 pm\nDeeper Look: Sunday\, August 2\, 11 am\nAftershow: Wednesday\, July 29 \nConceived and originally directed and choreographed by Michael Bennett\nBook by James Kirkwood & Nicholas Dante\nMusic by Marvin Hamlisch\nLyrics by Edward Kleban\nCo-choreographed by Bob Avian\nDirected by Alan Paul\nCo-Production with Geva Theatre \nAdditional sponsorship by Jeff Davis & Michael Miller\, and Berkshire Money Management.
URL:https://barringtonstageco.org/event/a-chorus-line/2026-07-29/1/
LOCATION:Boyd-Quinson Theater\, 30 Union Street\, Pittsfield\, MA\, 01201\, United States
CATEGORIES:Boyd-Quinson Theater,Musical
ATTACH;FMTTYPE=image/jpeg:https://barringtonstageco.org/wp-content/uploads/2026/03/2026_ShowArt_ACL.jpg
END:VEVENT
BEGIN:VEVENT
DTSTART;TZID=America/New_York:20260729T140000
DTEND;TZID=America/New_York:20260729T170000
DTSTAMP:20260422T053617
CREATED:20260420T194858Z
LAST-MODIFIED:20260420T200904Z
UID:10002208-1785333600-1785344400@barringtonstageco.org
SUMMARY:A Chorus Line
DESCRIPTION:Sponsored by the Feigenbaum Foundation\, and David & Carrie Shulman\nA Chorus Line\nJuly 15-August 8 \n17 dancers audition for a coveted spot in the next hot Broadway show. To make it\, they must prove they have more than just talent — this will take grit. In a major musical production\, Alan Paul directs the Pulitzer and Tony Award-winning musical that eclipsed all others when it shot to fame 50 years ago. \nJoin cast\, creatives\, and BSC-loyalists for pre-show drinks\, intermission snacks\, or post-show festivities. These are the most celebratory and in-demand nights of the year. Seating is extremely limited! \nOpening Celebration: Sunday\, July 19\, 2 pm\nDeeper Look: Sunday\, August 2\, 11 am\nAftershow: Wednesday\, July 29 \nConceived and originally directed and choreographed by Michael Bennett\nBook by James Kirkwood & Nicholas Dante\nMusic by Marvin Hamlisch\nLyrics by Edward Kleban\nCo-choreographed by Bob Avian\nDirected by Alan Paul\nCo-Production with Geva Theatre \nAdditional sponsorship by Jeff Davis & Michael Miller\, and Berkshire Money Management.
URL:https://barringtonstageco.org/event/a-chorus-line-2/2026-07-29/
LOCATION:Boyd-Quinson Theater\, 30 Union Street\, Pittsfield\, MA\, 01201\, United States
CATEGORIES:Boyd-Quinson Theater,Musical
ATTACH;FMTTYPE=image/jpeg:https://barringtonstageco.org/wp-content/uploads/2026/03/2026_ShowArt_ACL.jpg
END:VEVENT
BEGIN:VEVENT
DTSTART;TZID=America/New_York:20260729T193000
DTEND;TZID=America/New_York:20260729T220000
DTSTAMP:20260422T053617
CREATED:20260311T184520Z
LAST-MODIFIED:20260420T194825Z
UID:10000993-1785353400-1785362400@barringtonstageco.org
SUMMARY:A Chorus Line
DESCRIPTION:Sponsored by the Feigenbaum Foundation\, and David & Carrie Shulman\nA Chorus Line\nJuly 15-August 8 \n17 dancers audition for a coveted spot in the next hot Broadway show. To make it\, they must prove they have more than just talent — this will take grit. In a major musical production\, Alan Paul directs the Pulitzer and Tony Award-winning musical that eclipsed all others when it shot to fame 50 years ago. \nJoin cast\, creatives\, and BSC-loyalists for pre-show drinks\, intermission snacks\, or post-show festivities. These are the most celebratory and in-demand nights of the year. Seating is extremely limited! \nOpening Celebration: Sunday\, July 19\, 2 pm\nDeeper Look: Sunday\, August 2\, 11 am\nAftershow: Wednesday\, July 29 \nConceived and originally directed and choreographed by Michael Bennett\nBook by James Kirkwood & Nicholas Dante\nMusic by Marvin Hamlisch\nLyrics by Edward Kleban\nCo-choreographed by Bob Avian\nDirected by Alan Paul\nCo-Production with Geva Theatre \nAdditional sponsorship by Jeff Davis & Michael Miller\, and Berkshire Money Management.
URL:https://barringtonstageco.org/event/a-chorus-line/2026-07-29/2/
LOCATION:Boyd-Quinson Theater\, 30 Union Street\, Pittsfield\, MA\, 01201\, United States
CATEGORIES:Boyd-Quinson Theater,Musical
ATTACH;FMTTYPE=image/jpeg:https://barringtonstageco.org/wp-content/uploads/2026/03/2026_ShowArt_ACL.jpg
END:VEVENT
BEGIN:VEVENT
DTSTART;TZID=America/New_York:20260730T140000
DTEND;TZID=America/New_York:20260730T160000
DTSTAMP:20260422T053617
CREATED:20260420T194858Z
LAST-MODIFIED:20260420T200904Z
UID:10002209-1785420000-1785427200@barringtonstageco.org
SUMMARY:A Chorus Line
DESCRIPTION:Sponsored by the Feigenbaum Foundation\, and David & Carrie Shulman\nA Chorus Line\nJuly 15-August 8 \n17 dancers audition for a coveted spot in the next hot Broadway show. To make it\, they must prove they have more than just talent — this will take grit. In a major musical production\, Alan Paul directs the Pulitzer and Tony Award-winning musical that eclipsed all others when it shot to fame 50 years ago. \nJoin cast\, creatives\, and BSC-loyalists for pre-show drinks\, intermission snacks\, or post-show festivities. These are the most celebratory and in-demand nights of the year. Seating is extremely limited! \nOpening Celebration: Sunday\, July 19\, 2 pm\nDeeper Look: Sunday\, August 2\, 11 am\nAftershow: Wednesday\, July 29 \nConceived and originally directed and choreographed by Michael Bennett\nBook by James Kirkwood & Nicholas Dante\nMusic by Marvin Hamlisch\nLyrics by Edward Kleban\nCo-choreographed by Bob Avian\nDirected by Alan Paul\nCo-Production with Geva Theatre \nAdditional sponsorship by Jeff Davis & Michael Miller\, and Berkshire Money Management.
URL:https://barringtonstageco.org/event/a-chorus-line-2/2026-07-30/
LOCATION:Boyd-Quinson Theater\, 30 Union Street\, Pittsfield\, MA\, 01201\, United States
CATEGORIES:Boyd-Quinson Theater,Musical
ATTACH;FMTTYPE=image/jpeg:https://barringtonstageco.org/wp-content/uploads/2026/03/2026_ShowArt_ACL.jpg
END:VEVENT
BEGIN:VEVENT
DTSTART;TZID=America/New_York:20260730T193000
DTEND;TZID=America/New_York:20260730T213000
DTSTAMP:20260422T053617
CREATED:20260403T230800Z
LAST-MODIFIED:20260420T203830Z
UID:10002218-1785439800-1785447000@barringtonstageco.org
SUMMARY:The Zionists
DESCRIPTION:The Zionists: A Family Storm\nJune 16-July 3 \nA prominent Jewish family\, fractured by the politics and aftermath of October 7\, gathers for a fragile reunion at a luxury Caribbean resort. But as a sudden hurricane bears down outside their bungalow\, an even fiercer storm erupts within—forcing them to confront old wounds\, clashing values\, and the ties that may no longer bind them. In this urgent and deeply human world premiere\, The Zionists: A Family Storm lays bare how identity\, politics\, and history can tear families apart—and the struggle to hold them together in an increasingly divided world. \nJoin cast\, creatives\, and BSC-loyalists for pre-show drinks\, intermission snacks\, or post-show festivities. These are the most celebratory and in-demand nights of the year. Seating is extremely limited! \nOpening Celebration: Saturday\, June 20\, 7:30 pm\nDeeper Look: Sunday\, June 21\, 11 am\nAftershow: Wednesday\, June 24 \n✨ Barrington Stage Company Presents Miami New Drama‘s World Premiere Production ✨ \nWritten by S. Asher Gelman\nDirected by Chloe Treat \nAdditional sponsorship by Hildi Black\, in memory of Walter Black
URL:https://barringtonstageco.org/event/the-zionists/
LOCATION:Boyd-Quinson Theater\, 30 Union Street\, Pittsfield\, MA\, 01201\, United States
CATEGORIES:Show,Featured Event,World Premiere,Boyd-Quinson Theater,Play
ATTACH;FMTTYPE=image/jpeg:https://barringtonstageco.org/wp-content/uploads/2026/03/2026_ShowArt_ZION.jpg
END:VEVENT
BEGIN:VEVENT
DTSTART;TZID=America/New_York:20260730T193000
DTEND;TZID=America/New_York:20260730T220000
DTSTAMP:20260422T053617
CREATED:20260311T184520Z
LAST-MODIFIED:20260420T194825Z
UID:10000994-1785439800-1785448800@barringtonstageco.org
SUMMARY:A Chorus Line
DESCRIPTION:Sponsored by the Feigenbaum Foundation\, and David & Carrie Shulman\nA Chorus Line\nJuly 15-August 8 \n17 dancers audition for a coveted spot in the next hot Broadway show. To make it\, they must prove they have more than just talent — this will take grit. In a major musical production\, Alan Paul directs the Pulitzer and Tony Award-winning musical that eclipsed all others when it shot to fame 50 years ago. \nJoin cast\, creatives\, and BSC-loyalists for pre-show drinks\, intermission snacks\, or post-show festivities. These are the most celebratory and in-demand nights of the year. Seating is extremely limited! \nOpening Celebration: Sunday\, July 19\, 2 pm\nDeeper Look: Sunday\, August 2\, 11 am\nAftershow: Wednesday\, July 29 \nConceived and originally directed and choreographed by Michael Bennett\nBook by James Kirkwood & Nicholas Dante\nMusic by Marvin Hamlisch\nLyrics by Edward Kleban\nCo-choreographed by Bob Avian\nDirected by Alan Paul\nCo-Production with Geva Theatre \nAdditional sponsorship by Jeff Davis & Michael Miller\, and Berkshire Money Management.
URL:https://barringtonstageco.org/event/a-chorus-line/2026-07-30/
LOCATION:Boyd-Quinson Theater\, 30 Union Street\, Pittsfield\, MA\, 01201\, United States
CATEGORIES:Boyd-Quinson Theater,Musical
ATTACH;FMTTYPE=image/jpeg:https://barringtonstageco.org/wp-content/uploads/2026/03/2026_ShowArt_ACL.jpg
END:VEVENT
BEGIN:VEVENT
DTSTART;TZID=America/New_York:20260731T140000
DTEND;TZID=America/New_York:20260731T160000
DTSTAMP:20260422T053617
CREATED:20260420T194858Z
LAST-MODIFIED:20260420T200904Z
UID:10002210-1785506400-1785513600@barringtonstageco.org
SUMMARY:A Chorus Line
DESCRIPTION:Sponsored by the Feigenbaum Foundation\, and David & Carrie Shulman\nA Chorus Line\nJuly 15-August 8 \n17 dancers audition for a coveted spot in the next hot Broadway show. To make it\, they must prove they have more than just talent — this will take grit. In a major musical production\, Alan Paul directs the Pulitzer and Tony Award-winning musical that eclipsed all others when it shot to fame 50 years ago. \nJoin cast\, creatives\, and BSC-loyalists for pre-show drinks\, intermission snacks\, or post-show festivities. These are the most celebratory and in-demand nights of the year. Seating is extremely limited! \nOpening Celebration: Sunday\, July 19\, 2 pm\nDeeper Look: Sunday\, August 2\, 11 am\nAftershow: Wednesday\, July 29 \nConceived and originally directed and choreographed by Michael Bennett\nBook by James Kirkwood & Nicholas Dante\nMusic by Marvin Hamlisch\nLyrics by Edward Kleban\nCo-choreographed by Bob Avian\nDirected by Alan Paul\nCo-Production with Geva Theatre \nAdditional sponsorship by Jeff Davis & Michael Miller\, and Berkshire Money Management.
URL:https://barringtonstageco.org/event/a-chorus-line-2/2026-07-31/
LOCATION:Boyd-Quinson Theater\, 30 Union Street\, Pittsfield\, MA\, 01201\, United States
CATEGORIES:Boyd-Quinson Theater,Musical
ATTACH;FMTTYPE=image/jpeg:https://barringtonstageco.org/wp-content/uploads/2026/03/2026_ShowArt_ACL.jpg
END:VEVENT
BEGIN:VEVENT
DTSTART;TZID=America/New_York:20260731T193000
DTEND;TZID=America/New_York:20260731T220000
DTSTAMP:20260422T053617
CREATED:20260311T184520Z
LAST-MODIFIED:20260420T194825Z
UID:10000995-1785526200-1785535200@barringtonstageco.org
SUMMARY:A Chorus Line
DESCRIPTION:Sponsored by the Feigenbaum Foundation\, and David & Carrie Shulman\nA Chorus Line\nJuly 15-August 8 \n17 dancers audition for a coveted spot in the next hot Broadway show. To make it\, they must prove they have more than just talent — this will take grit. In a major musical production\, Alan Paul directs the Pulitzer and Tony Award-winning musical that eclipsed all others when it shot to fame 50 years ago. \nJoin cast\, creatives\, and BSC-loyalists for pre-show drinks\, intermission snacks\, or post-show festivities. These are the most celebratory and in-demand nights of the year. Seating is extremely limited! \nOpening Celebration: Sunday\, July 19\, 2 pm\nDeeper Look: Sunday\, August 2\, 11 am\nAftershow: Wednesday\, July 29 \nConceived and originally directed and choreographed by Michael Bennett\nBook by James Kirkwood & Nicholas Dante\nMusic by Marvin Hamlisch\nLyrics by Edward Kleban\nCo-choreographed by Bob Avian\nDirected by Alan Paul\nCo-Production with Geva Theatre \nAdditional sponsorship by Jeff Davis & Michael Miller\, and Berkshire Money Management.
URL:https://barringtonstageco.org/event/a-chorus-line/2026-07-31/
LOCATION:Boyd-Quinson Theater\, 30 Union Street\, Pittsfield\, MA\, 01201\, United States
CATEGORIES:Boyd-Quinson Theater,Musical
ATTACH;FMTTYPE=image/jpeg:https://barringtonstageco.org/wp-content/uploads/2026/03/2026_ShowArt_ACL.jpg
END:VEVENT
BEGIN:VEVENT
DTSTART;TZID=America/New_York:20260801T140000
DTEND;TZID=America/New_York:20260801T170000
DTSTAMP:20260422T053617
CREATED:20260311T184520Z
LAST-MODIFIED:20260420T194825Z
UID:10000996-1785592800-1785603600@barringtonstageco.org
SUMMARY:A Chorus Line
DESCRIPTION:Sponsored by the Feigenbaum Foundation\, and David & Carrie Shulman\nA Chorus Line\nJuly 15-August 8 \n17 dancers audition for a coveted spot in the next hot Broadway show. To make it\, they must prove they have more than just talent — this will take grit. In a major musical production\, Alan Paul directs the Pulitzer and Tony Award-winning musical that eclipsed all others when it shot to fame 50 years ago. \nJoin cast\, creatives\, and BSC-loyalists for pre-show drinks\, intermission snacks\, or post-show festivities. These are the most celebratory and in-demand nights of the year. Seating is extremely limited! \nOpening Celebration: Sunday\, July 19\, 2 pm\nDeeper Look: Sunday\, August 2\, 11 am\nAftershow: Wednesday\, July 29 \nConceived and originally directed and choreographed by Michael Bennett\nBook by James Kirkwood & Nicholas Dante\nMusic by Marvin Hamlisch\nLyrics by Edward Kleban\nCo-choreographed by Bob Avian\nDirected by Alan Paul\nCo-Production with Geva Theatre \nAdditional sponsorship by Jeff Davis & Michael Miller\, and Berkshire Money Management.
URL:https://barringtonstageco.org/event/a-chorus-line/2026-08-01/1/
LOCATION:Boyd-Quinson Theater\, 30 Union Street\, Pittsfield\, MA\, 01201\, United States
CATEGORIES:Boyd-Quinson Theater,Musical
ATTACH;FMTTYPE=image/jpeg:https://barringtonstageco.org/wp-content/uploads/2026/03/2026_ShowArt_ACL.jpg
END:VEVENT
BEGIN:VEVENT
DTSTART;TZID=America/New_York:20260801T140000
DTEND;TZID=America/New_York:20260801T170000
DTSTAMP:20260422T053617
CREATED:20260420T194858Z
LAST-MODIFIED:20260420T200904Z
UID:10002211-1785592800-1785603600@barringtonstageco.org
SUMMARY:A Chorus Line
DESCRIPTION:Sponsored by the Feigenbaum Foundation\, and David & Carrie Shulman\nA Chorus Line\nJuly 15-August 8 \n17 dancers audition for a coveted spot in the next hot Broadway show. To make it\, they must prove they have more than just talent — this will take grit. In a major musical production\, Alan Paul directs the Pulitzer and Tony Award-winning musical that eclipsed all others when it shot to fame 50 years ago. \nJoin cast\, creatives\, and BSC-loyalists for pre-show drinks\, intermission snacks\, or post-show festivities. These are the most celebratory and in-demand nights of the year. Seating is extremely limited! \nOpening Celebration: Sunday\, July 19\, 2 pm\nDeeper Look: Sunday\, August 2\, 11 am\nAftershow: Wednesday\, July 29 \nConceived and originally directed and choreographed by Michael Bennett\nBook by James Kirkwood & Nicholas Dante\nMusic by Marvin Hamlisch\nLyrics by Edward Kleban\nCo-choreographed by Bob Avian\nDirected by Alan Paul\nCo-Production with Geva Theatre \nAdditional sponsorship by Jeff Davis & Michael Miller\, and Berkshire Money Management.
URL:https://barringtonstageco.org/event/a-chorus-line-2/2026-08-01/
LOCATION:Boyd-Quinson Theater\, 30 Union Street\, Pittsfield\, MA\, 01201\, United States
CATEGORIES:Boyd-Quinson Theater,Musical
ATTACH;FMTTYPE=image/jpeg:https://barringtonstageco.org/wp-content/uploads/2026/03/2026_ShowArt_ACL.jpg
END:VEVENT
BEGIN:VEVENT
DTSTART;TZID=America/New_York:20260801T193000
DTEND;TZID=America/New_York:20260801T220000
DTSTAMP:20260422T053617
CREATED:20260311T184520Z
LAST-MODIFIED:20260420T194825Z
UID:10000997-1785612600-1785621600@barringtonstageco.org
SUMMARY:A Chorus Line
DESCRIPTION:Sponsored by the Feigenbaum Foundation\, and David & Carrie Shulman\nA Chorus Line\nJuly 15-August 8 \n17 dancers audition for a coveted spot in the next hot Broadway show. To make it\, they must prove they have more than just talent — this will take grit. In a major musical production\, Alan Paul directs the Pulitzer and Tony Award-winning musical that eclipsed all others when it shot to fame 50 years ago. \nJoin cast\, creatives\, and BSC-loyalists for pre-show drinks\, intermission snacks\, or post-show festivities. These are the most celebratory and in-demand nights of the year. Seating is extremely limited! \nOpening Celebration: Sunday\, July 19\, 2 pm\nDeeper Look: Sunday\, August 2\, 11 am\nAftershow: Wednesday\, July 29 \nConceived and originally directed and choreographed by Michael Bennett\nBook by James Kirkwood & Nicholas Dante\nMusic by Marvin Hamlisch\nLyrics by Edward Kleban\nCo-choreographed by Bob Avian\nDirected by Alan Paul\nCo-Production with Geva Theatre \nAdditional sponsorship by Jeff Davis & Michael Miller\, and Berkshire Money Management.
URL:https://barringtonstageco.org/event/a-chorus-line/2026-08-01/2/
LOCATION:Boyd-Quinson Theater\, 30 Union Street\, Pittsfield\, MA\, 01201\, United States
CATEGORIES:Boyd-Quinson Theater,Musical
ATTACH;FMTTYPE=image/jpeg:https://barringtonstageco.org/wp-content/uploads/2026/03/2026_ShowArt_ACL.jpg
END:VEVENT
END:VCALENDAR